BEGIN:VCALENDAR
VERSION:2.0
PRODID:-//Beti Jai Alai - ECPv6.15.20//NONSGML v1.0//EN
CALSCALE:GREGORIAN
METHOD:PUBLISH
X-WR-CALNAME:Beti Jai Alai
X-ORIGINAL-URL:https://www.betijaialai.eus/cas
X-WR-CALDESC:Eventos para Beti Jai Alai
REFRESH-INTERVAL;VALUE=DURATION:PT1H
X-Robots-Tag:noindex
X-PUBLISHED-TTL:PT1H
BEGIN:VTIMEZONE
TZID:Europe/Madrid
BEGIN:DAYLIGHT
TZOFFSETFROM:+0100
TZOFFSETTO:+0200
TZNAME:CEST
DTSTART:20250330T010000
END:DAYLIGHT
BEGIN:STANDARD
TZOFFSETFROM:+0200
TZOFFSETTO:+0100
TZNAME:CET
DTSTART:20251026T010000
END:STANDARD
BEGIN:DAYLIGHT
TZOFFSETFROM:+0100
TZOFFSETTO:+0200
TZNAME:CEST
DTSTART:20260329T010000
END:DAYLIGHT
BEGIN:STANDARD
TZOFFSETFROM:+0200
TZOFFSETTO:+0100
TZNAME:CET
DTSTART:20261025T010000
END:STANDARD
BEGIN:DAYLIGHT
TZOFFSETFROM:+0100
TZOFFSETTO:+0200
TZNAME:CEST
DTSTART:20270328T010000
END:DAYLIGHT
BEGIN:STANDARD
TZOFFSETFROM:+0200
TZOFFSETTO:+0100
TZNAME:CET
DTSTART:20271031T010000
END:STANDARD
END:VTIMEZONE
BEGIN:VEVENT
DTSTART;TZID=Europe/Madrid:20260815T120000
DTEND;TZID=Europe/Madrid:20260815T130000
DTSTAMP:20260420T170435
CREATED:20251208T183854Z
LAST-MODIFIED:20251208T183854Z
UID:1490-1786795200-1786798800@www.betijaialai.eus
SUMMARY:Begoña
DESCRIPTION:
URL:https://www.betijaialai.eus/cas/ekitaldiak/begona-3/
LOCATION:Basilica de Begoña\, Begoñako Andra Maria Kalea\, 38\, Bilbao\, España
END:VEVENT
BEGIN:VEVENT
DTSTART;TZID=Europe/Madrid:20260830T190000
DTEND;TZID=Europe/Madrid:20260830T200000
DTSTAMP:20260420T170435
CREATED:20251208T183946Z
LAST-MODIFIED:20251208T183946Z
UID:1492-1788116400-1788120000@www.betijaialai.eus
SUMMARY:Aste Nagusia
DESCRIPTION:
URL:https://www.betijaialai.eus/cas/ekitaldiak/aste-nagusia-2/
LOCATION:Plaza berria\, Plaza Nueva\, Bilbao\, España
END:VEVENT
END:VCALENDAR